BEGIN:VCALENDAR
VERSION:2.0
PRODID:-//CSTC Pty Ltd - ECPv4.9.12//NONSGML v1.0//EN
CALSCALE:GREGORIAN
METHOD:PUBLISH
X-WR-CALNAME:CSTC Pty Ltd
X-ORIGINAL-URL:https://cstc.org.au
X-WR-CALDESC:Events for CSTC Pty Ltd
BEGIN:VTIMEZONE
TZID:Australia/Brisbane
BEGIN:STANDARD
TZOFFSETFROM:+1000
TZOFFSETTO:+1000
TZNAME:AEST
DTSTART:20200101T000000
END:STANDARD
END:VTIMEZONE
BEGIN:VEVENT
DTSTART;VALUE=DATE:20200224
DTEND;VALUE=DATE:20200229
DTSTAMP:20200302T053601
CREATED:20191218T214432Z
LAST-MODIFIED:20191218T220213Z
UID:10135-1582502400-1582934399@cstc.org.au
SUMMARY:Licence to perform Rigging Intermediate Level (CPCCLRG3002A)
DESCRIPTION: \nCPCCLRG3002A Licence to perform rigging intermediate level course covers the skills and knowledge required to undertake intermediate rigging – including planning work\, selecting/inspecting equipment\, setting up tasks\, and erecting/dismantling structures and plant (e.g. rigging of cranes\, rigging of conveyors\, rigging of dredges and excavators\, rigging associated with tilt slabs\, rigging associated with demolition work\, and dual lifts). \nLEARN MORE \n
URL:https://cstc.org.au/?tribe_events=licence-to-perform-rigging-intermediate-level-cpcclrg3002a-2
LOCATION:CSTC (Construction Skills Training Centre) Yeerongpilly\, 973 Fairfield Road\, Yeerongpilly\, Brisbane\, Queensland\, 4105\, Australia
END:VEVENT
END:VCALENDAR