BEGIN:VCALENDAR
VERSION:2.0
PRODID:-//CSTC Pty Ltd - ECPv4.9.12//NONSGML v1.0//EN
CALSCALE:GREGORIAN
METHOD:PUBLISH
X-WR-CALNAME:CSTC Pty Ltd
X-ORIGINAL-URL:https://cstc.org.au
X-WR-CALDESC:Events for CSTC Pty Ltd
BEGIN:VTIMEZONE
TZID:Australia/Brisbane
BEGIN:STANDARD
TZOFFSETFROM:+1000
TZOFFSETTO:+1000
TZNAME:AEST
DTSTART:20200101T000000
END:STANDARD
END:VTIMEZONE
BEGIN:VEVENT
DTSTART;VALUE=DATE:20200229
DTEND;VALUE=DATE:20200303
DTSTAMP:20200302T053957
CREATED:20200213T214336Z
LAST-MODIFIED:20200213T214336Z
UID:10339-1582934400-1583193599@cstc.org.au
SUMMARY:Licence to operate a boom-type elevating work platform (TLILIC0005)
DESCRIPTION: \nAn elevating work platform is a telescoping\, scissor or articulating device (or combination thereof) used to position personnel\, equipment and materials at work locations. It is also used to provide a work area for personnel elevated by and working from the platform. \nTLILIC0005 Licence to operate a boom-type elevating work platform course meets the minimum formal training and assessment standards for the purposes of certification through Workplace Health and Safety Queensland. \nLEARN MORE \n
URL:https://cstc.org.au/?tribe_events=licence-to-operate-a-boom-type-elevating-work-platform-tlilic0005-8
LOCATION:CSTC (Construction Skills Training Centre) Yeerongpilly\, 973 Fairfield Road\, Yeerongpilly\, Brisbane\, Queensland\, 4105\, Australia
END:VEVENT
END:VCALENDAR