BEGIN:VCALENDAR
VERSION:2.0
PRODID:-//CSTC Pty Ltd - ECPv4.9.12//NONSGML v1.0//EN
CALSCALE:GREGORIAN
METHOD:PUBLISH
X-WR-CALNAME:CSTC Pty Ltd
X-ORIGINAL-URL:https://cstc.org.au
X-WR-CALDESC:Events for CSTC Pty Ltd
BEGIN:VTIMEZONE
TZID:Australia/Brisbane
BEGIN:STANDARD
TZOFFSETFROM:+1000
TZOFFSETTO:+1000
TZNAME:AEST
DTSTART:20200101T000000
END:STANDARD
END:VTIMEZONE
BEGIN:VEVENT
DTSTART;VALUE=DATE:20200525
DTEND;VALUE=DATE:20200526
DTSTAMP:20200302T054338
CREATED:20191218T214407Z
LAST-MODIFIED:20191218T215504Z
UID:10142-1590364800-1590451199@cstc.org.au
SUMMARY:CPCCWHS1001 - Prepare to work safely in the construction industry (White Card)
DESCRIPTION:This unit of competency specifies the outcomes required to work safely on construction sites where the work activity involves working above 1.5 metres from ground level and where fall protection measures are required. It covers identifying the work requirements\, work procedures and instructions for the task; accessing and installing equipment; performing work at heights; and cleaning up the work area. \nLEARN MORE \n
URL:https://cstc.org.au/?tribe_events=__trashed-33
LOCATION:CSTC (Construction Skills Training Centre) Yeerongpilly\, 973 Fairfield Road\, Yeerongpilly\, Brisbane\, Queensland\, 4105\, Australia
END:VEVENT
END:VCALENDAR