BEGIN:VCALENDAR
VERSION:2.0
PRODID:-//CSTC Pty Ltd - ECPv4.9.12//NONSGML v1.0//EN
CALSCALE:GREGORIAN
METHOD:PUBLISH
X-WR-CALNAME:CSTC Pty Ltd
X-ORIGINAL-URL:https://cstc.org.au
X-WR-CALDESC:Events for CSTC Pty Ltd
BEGIN:VTIMEZONE
TZID:Australia/Brisbane
BEGIN:STANDARD
TZOFFSETFROM:+1000
TZOFFSETTO:+1000
TZNAME:AEST
DTSTART:20200101T000000
END:STANDARD
END:VTIMEZONE
BEGIN:VEVENT
DTSTART;VALUE=DATE:20200302
DTEND;VALUE=DATE:20200307
DTSTAMP:20200302T054215
CREATED:20191218T214406Z
LAST-MODIFIED:20191218T220556Z
UID:10154-1583107200-1583539199@cstc.org.au
SUMMARY:Health and Safety Representatives Course (Full 5 days)
DESCRIPTION: \nHealth and Safety Representatives (HSRs) assist in the consultation\, coordination and cooperation processes by representing the views of workers and communicating these up the chain of responsibility to supervisors and management. This course is intended to give participants the necessary skills and knowledge to perform this role while also satisfying the requirements of the Work Health & Safety Act (Qld) 2011. \nLEARN MORE \n
URL:https://cstc.org.au/?tribe_events=__trashed-22
LOCATION:CSTC (Construction Skills Training Centre) Yeerongpilly\, 973 Fairfield Road\, Yeerongpilly\, Brisbane\, Queensland\, 4105\, Australia
END:VEVENT
END:VCALENDAR