BEGIN:VCALENDAR
VERSION:2.0
PRODID:-//Construction Skills Training Centre - ECPv4.6.2//NONSGML v1.0//EN
CALSCALE:GREGORIAN
METHOD:PUBLISH
X-WR-CALNAME:Construction Skills Training Centre
X-ORIGINAL-URL:http://cstc.org.au
X-WR-CALDESC:Events for Construction Skills Training Centre
BEGIN:VEVENT
DTSTART;TZID=UTC+10:20180129T073000
DTEND;TZID=UTC+10:20180202T153000
DTSTAMP:20180224T120016
CREATED:20170116T233355Z
LAST-MODIFIED:20180123T051408Z
UID:6547-1517211000-1517585400@cstc.org.au
SUMMARY:Health and Safety Representative 5 Day Course
DESCRIPTION: \nHealth and Safety Representatives (HSRs) assist in the consultation\, coordination and cooperation processes by representing the views of workers and communicating these up the chain of responsibility to supervisors and management. This course is intended to give participants the necessary skills and knowledge to perform this role while also satisfying the requirements of the Work Health & Safety Act (Qld) 2011. \nLEARN MORE \n  \n
URL:http://cstc.org.au/?tribe_events=health-and-safety-representative-5-day-course-11
LOCATION:973 Fairfield Road\, Yeerongpilly\, Brisbane\, Queensland\, 4105\, Australia
END:VEVENT
BEGIN:VEVENT
DTSTART;TZID=UTC+10:20180129T073000
DTEND;TZID=UTC+10:20180131T153000
DTSTAMP:20180224T120016
CREATED:20170905T015621Z
LAST-MODIFIED:20180123T050902Z
UID:8270-1517211000-1517412600@cstc.org.au
SUMMARY:Licence to operate a Forklift Truck
DESCRIPTION: \nTLILIC2001 Licence to operate a Forklift Truck course covers the functions required to prepare and operate a forklift to meet the minimum formal training and assessment standards for the purposes of certification through Workplace Health and Safety Queensland (Forklift Licence). \nLEARN MORE  \n
URL:http://cstc.org.au/?tribe_events=licence-operate-forklift-truck-4
LOCATION:973 Fairfield Road\, Yeerongpilly\, Brisbane\, Queensland\, 4105\, Australia
END:VEVENT
BEGIN:VEVENT
DTSTART;TZID=UTC+10:20180202T073000
DTEND;TZID=UTC+10:20180202T153000
DTSTAMP:20180224T120016
CREATED:20170117T040107Z
LAST-MODIFIED:20180123T053020Z
UID:6625-1517556600-1517585400@cstc.org.au
SUMMARY:Work Safely at Heights
DESCRIPTION:The RIIWHS204D – Work safely at heights course covers working safely at heights in the construction\, infrastructure industries.  It includes: identifying the work requirements\, work procedures and instructions for the task; accessing and installing equipment; perform work at heights; and cleaning up the work area. \nFlexible learning available for this course – complete the theory online and save time! \nLEARN MORE \n
URL:http://cstc.org.au/?tribe_events=work-safely-at-heights-24
LOCATION:973 Fairfield Road\, Yeerongpilly\, Brisbane\, Queensland\, 4105\, Australia
END:VEVENT
BEGIN:VEVENT
DTSTART;TZID=UTC+10:20180202T073000
DTEND;TZID=UTC+10:20180202T153000
DTSTAMP:20180224T120016
CREATED:20170117T044747Z
LAST-MODIFIED:20180123T052954Z
UID:6638-1517556600-1517585400@cstc.org.au
SUMMARY:Confined Spaces
DESCRIPTION:RIIWHS202D – Enter and work in confined spaces course is intended to provide building\, construction\, mining and maintenance workers with the necessary knowledge and skills to understand the legislative requirements associated with providing a safe work environment. It will also allow industry workers to further develop important work skills in the area of confined space safety. \nFlexible learning available for this course – complete the theory online and save time! \nLEARN MORE \n
URL:http://cstc.org.au/?tribe_events=confined-spaces-13
LOCATION:973 Fairfield Road\, Yeerongpilly\, Brisbane\, Queensland\, 4105\, Australia
END:VEVENT
BEGIN:VEVENT
DTSTART;TZID=UTC+10:20180206T073000
DTEND;TZID=UTC+10:20180208T153000
DTSTAMP:20180224T120016
CREATED:20170117T005332Z
LAST-MODIFIED:20180123T234045Z
UID:6576-1517902200-1518103800@cstc.org.au
SUMMARY:Licence to operate a boom-type elevating work platform
DESCRIPTION: \nAn elevating work platform is a telescoping\, scissor or articulating device (or combination thereof) used to position personnel\, equipment and materials at work locations.  It is also used to provide a work area for personnel elevated by and working from the platform. \nTLILIC2005 Licence to operate a boom-type elevating work platform course meets the minimum formal training and assessment standards for the purposes of certification through Workplace Health and Safety Queensland. \nLEARN MORE \n\n
URL:http://cstc.org.au/?tribe_events=licence-to-operate-a-boom-type-elevating-work-platform-12
LOCATION:973 Fairfield Road\, Yeerongpilly\, Brisbane\, Queensland\, 4105\, Australia
END:VEVENT
BEGIN:VEVENT
DTSTART;TZID=UTC+10:20180206T073000
DTEND;TZID=UTC+10:20180208T153000
DTSTAMP:20180224T120016
CREATED:20180123T051002Z
LAST-MODIFIED:20180123T051004Z
UID:8445-1517902200-1518103800@cstc.org.au
SUMMARY:Licence to operate a Forklift Truck
DESCRIPTION: \nTLILIC2001 Licence to operate a Forklift Truck course covers the functions required to prepare and operate a forklift to meet the minimum formal training and assessment standards for the purposes of certification through Workplace Health and Safety Queensland (Forklift Licence). \nLEARN MORE  \n
URL:http://cstc.org.au/?tribe_events=licence-operate-forklift-truck-5
LOCATION:973 Fairfield Road\, Yeerongpilly\, Brisbane\, Queensland\, 4105\, Australia
END:VEVENT
BEGIN:VEVENT
DTSTART;TZID=UTC+10:20180209T073000
DTEND;TZID=UTC+10:20180209T153000
DTSTAMP:20180224T120016
CREATED:20180124T012406Z
LAST-MODIFIED:20180124T012434Z
UID:8641-1518161400-1518190200@cstc.org.au
SUMMARY:RIIHAN301D - Operate elevating work platform
DESCRIPTION:An elevating work platform is a telescoping\, scissor or articulating device (or combination thereof) used to position personnel\, equipment and materials at work locations. It is also used to provide a work area for personnel elevated by and working from the platform. \nThis course covers the functions required for a variety of elevating work platforms (under 11 metres). It covers planning and preparation\, conducting work activities from an elevating work platform\, and required housekeeping/maintenance tasks. \nLEARN MORE \n
URL:http://cstc.org.au/?tribe_events=riihan301d-operate-elevating-work-platform
LOCATION:973 Fairfield Road\, Yeerongpilly\, Brisbane\, Queensland\, 4105\, Australia
END:VEVENT
BEGIN:VEVENT
DTSTART;TZID=UTC+10:20180212T073000
DTEND;TZID=UTC+10:20180216T153000
DTSTAMP:20180224T120016
CREATED:20170116T234903Z
LAST-MODIFIED:20180123T231331Z
UID:6557-1518420600-1518795000@cstc.org.au
SUMMARY:Licence to Perform Dogging
DESCRIPTION: \nCPCCLDG3001A Licence to Perform Dogging course covers the functions required to competently perform dogging operations to meet the minimum formal training and assessment standards for the purposes of certification through Workplace Health and Safety Queensland. \nLEARN MORE \n  \n  \n  \n
URL:http://cstc.org.au/?tribe_events=licence-to-perform-dogging-11
LOCATION:973 Fairfield Road\, Yeerongpilly\, Brisbane\, Queensland\, 4105\, Australia
END:VEVENT
BEGIN:VEVENT
DTSTART;TZID=UTC+10:20180216T073000
DTEND;TZID=UTC+10:20180216T153000
DTSTAMP:20180224T120016
CREATED:20180123T221852Z
LAST-MODIFIED:20180124T010548Z
UID:8494-1518766200-1518795000@cstc.org.au
SUMMARY:Work Safely at Heights
DESCRIPTION:The RIIWHS204D – Work safely at heights course covers working safely at heights in the construction\, infrastructure industries. It includes: identifying the work requirements\, work procedures and instructions for the task; accessing and installing equipment; perform work at heights; and cleaning up the work area. \nLEARN MORE \n
URL:http://cstc.org.au/?tribe_events=work-safely-heights
LOCATION:973 Fairfield Road\, Yeerongpilly\, Brisbane\, Queensland\, 4105\, Australia
END:VEVENT
BEGIN:VEVENT
DTSTART;TZID=UTC+10:20180216T073000
DTEND;TZID=UTC+10:20180216T153000
DTSTAMP:20180224T120016
CREATED:20180123T222411Z
LAST-MODIFIED:20180124T005456Z
UID:8502-1518766200-1518795000@cstc.org.au
SUMMARY:Confined Spaces
DESCRIPTION:RIIWHS202D – Enter and work in confined spaces course is intended to provide building\, construction\, mining and maintenance workers with the necessary knowledge and skills to understand the legislative requirements associated with providing a safe work environment. It will also allow industry workers to further develop important work skills in the area of confined space safety. \n  \nLEARN MORE \n
URL:http://cstc.org.au/?tribe_events=confined-spaces-11
LOCATION:973 Fairfield Road\, Yeerongpilly\, Brisbane\, Queensland\, 4105\, Australia
END:VEVENT
BEGIN:VEVENT
DTSTART;TZID=UTC+10:20180219T073000
DTEND;TZID=UTC+10:20180223T153000
DTSTAMP:20180224T120016
CREATED:20170117T013800Z
LAST-MODIFIED:20180124T011724Z
UID:6586-1519025400-1519399800@cstc.org.au
SUMMARY:Licence to erect\,alter and dismantle Scaffold Basic Level
DESCRIPTION:CPCCLSF2001A Licence to erect\,alter and dismantle Scaffold Basic Level course covers the functions required to erect basic scaffolding to meet the minimum formal training and assessment standards for the purposes of certification through Workplace Health and Safety Queensland. \nLEARN MORE \n
URL:http://cstc.org.au/?tribe_events=licence-to-erectalter-and-dismantle-scaffold-basic-level-11
LOCATION:973 Fairfield Road\, Yeerongpilly\, Brisbane\, Queensland\, 4105\, Australia
END:VEVENT
BEGIN:VEVENT
DTSTART;TZID=UTC+10:20180219T073000
DTEND;TZID=UTC+10:20180223T153000
DTSTAMP:20180224T120016
CREATED:20180123T051609Z
LAST-MODIFIED:20180123T051611Z
UID:8454-1519025400-1519399800@cstc.org.au
SUMMARY:Health and Safety Representative 5 Day Course
DESCRIPTION: \nHealth and Safety Representatives (HSRs) assist in the consultation\, coordination and cooperation processes by representing the views of workers and communicating these up the chain of responsibility to supervisors and management. This course is intended to give participants the necessary skills and knowledge to perform this role while also satisfying the requirements of the Work Health & Safety Act (Qld) 2011. \nLEARN MORE \n
URL:http://cstc.org.au/?tribe_events=health-safety-representative-5-day-course
LOCATION:973 Fairfield Road\, Yeerongpilly\, Brisbane\, Queensland\, 4105\, Australia
END:VEVENT
BEGIN:VEVENT
DTSTART;TZID=UTC+10:20180221T073000
DTEND;TZID=UTC+10:20180223T153000
DTSTAMP:20180224T120016
CREATED:20170823T225024Z
LAST-MODIFIED:20180123T052732Z
UID:8211-1519198200-1519399800@cstc.org.au
SUMMARY:Licence to operate a personnel and materials Hoist
DESCRIPTION:CPCCLHS3001A Licence to operate a personnel and materials Hoist course covers the functions required to competently perform Hoist operations to meet the minimum formal training and assessment standards for the purposes of certification through Workplace Health and Safety Queensland. \nLEARN MORE \n
URL:http://cstc.org.au/?tribe_events=licence-operate-personnel-materials-hoist-7
LOCATION:973 Fairfield Road\, Yeerongpilly\, Brisbane\, Queensland\, 4105\, Australia
END:VEVENT
BEGIN:VEVENT
DTSTART;TZID=UTC+10:20180226T073000
DTEND;TZID=UTC+10:20180302T153000
DTSTAMP:20180224T120017
CREATED:20170117T025642Z
LAST-MODIFIED:20180124T011543Z
UID:6600-1519630200-1520004600@cstc.org.au
SUMMARY:Licence to perform Rigging Basic Level
DESCRIPTION: \nCPCCLRG3001A Licence to perform Rigging Basic Level course covers the functions required to undertake basic rigging to meet the minimum formal training and assessment standards for the purposes of certification through Workplace Health and Safety Queensland. \nLEARN MORE \n
URL:http://cstc.org.au/?tribe_events=licence-to-perform-rigging-basic-level-5
LOCATION:973 Fairfield Road\, Yeerongpilly\, Brisbane\, Queensland\, 4105\, Australia
END:VEVENT
BEGIN:VEVENT
DTSTART;TZID=UTC+10:20180302T073000
DTEND;TZID=UTC+10:20180302T153000
DTSTAMP:20180224T120017
CREATED:20180123T221939Z
LAST-MODIFIED:20180124T010627Z
UID:8496-1519975800-1520004600@cstc.org.au
SUMMARY:Work Safely at Heights
DESCRIPTION:The RIIWHS204D – Work safely at heights course covers working safely at heights in the construction\, infrastructure industries. It includes: identifying the work requirements\, work procedures and instructions for the task; accessing and installing equipment; perform work at heights; and cleaning up the work area. \nLEARN MORE \n
URL:http://cstc.org.au/?tribe_events=work-safely-heights-2
LOCATION:973 Fairfield Road\, Yeerongpilly\, Brisbane\, Queensland\, 4105\, Australia
END:VEVENT
BEGIN:VEVENT
DTSTART;TZID=UTC+10:20180302T073000
DTEND;TZID=UTC+10:20180302T153000
DTSTAMP:20180224T120017
CREATED:20180123T222451Z
LAST-MODIFIED:20180124T005519Z
UID:8504-1519975800-1520004600@cstc.org.au
SUMMARY:Confined Spaces
DESCRIPTION:RIIWHS202D – Enter and work in confined spaces course is intended to provide building\, construction\, mining and maintenance workers with the necessary knowledge and skills to understand the legislative requirements associated with providing a safe work environment. It will also allow industry workers to further develop important work skills in the area of confined space safety. \n  \nLEARN MORE \n
URL:http://cstc.org.au/?tribe_events=confined-spaces-14
LOCATION:973 Fairfield Road\, Yeerongpilly\, Brisbane\, Queensland\, 4105\, Australia
END:VEVENT
END:VCALENDAR